BEGIN:VCALENDAR
VERSION:2.0
PRODID:-//Bramley War Memorial - ECPv6.14.2//NONSGML v1.0//EN
CALSCALE:GREGORIAN
METHOD:PUBLISH
X-WR-CALNAME:Bramley War Memorial
X-ORIGINAL-URL:https://www.bramleywarmemorial.com
X-WR-CALDESC:Events for Bramley War Memorial
REFRESH-INTERVAL;VALUE=DURATION:PT1H
X-Robots-Tag:noindex
X-PUBLISHED-TTL:PT1H
BEGIN:VTIMEZONE
TZID:Europe/London
BEGIN:DAYLIGHT
TZOFFSETFROM:+0000
TZOFFSETTO:+0100
TZNAME:BST
DTSTART:20180325T010000
END:DAYLIGHT
BEGIN:STANDARD
TZOFFSETFROM:+0100
TZOFFSETTO:+0000
TZNAME:GMT
DTSTART:20181028T010000
END:STANDARD
BEGIN:DAYLIGHT
TZOFFSETFROM:+0000
TZOFFSETTO:+0100
TZNAME:BST
DTSTART:20190331T010000
END:DAYLIGHT
BEGIN:STANDARD
TZOFFSETFROM:+0100
TZOFFSETTO:+0000
TZNAME:GMT
DTSTART:20191027T010000
END:STANDARD
END:VTIMEZONE
BEGIN:VEVENT
DTSTART;TZID=Europe/London:20190710T123000
DTEND;TZID=Europe/London:20190710T143000
DTSTAMP:20260421T230727
CREATED:20160115T121656Z
LAST-MODIFIED:20190110T163138Z
UID:6012-1562761800-1562769000@www.bramleywarmemorial.com
SUMMARY:Bramley Baptists War and Remembered Graves Clean Up
DESCRIPTION:Close up of the Grave Furniture designed\, produced and placed by Students at West Leeds Academy.
URL:https://www.bramleywarmemorial.com/event/bramley-baptists-war-and-remembered-graves-clean-up-2019-07-17/
LOCATION:Bramley Baptist Church Yard\, LS13 3RD
ORGANIZER;CN="John Barker":MAILTO:bramleywm@aol.com
END:VEVENT
BEGIN:VEVENT
DTSTART;TZID=Europe/London:20190707T123000
DTEND;TZID=Europe/London:20190707T150000
DTSTAMP:20260421T230727
CREATED:20180619T103951Z
LAST-MODIFIED:20180619T103951Z
UID:6131-1562502600-1562511600@www.bramleywarmemorial.com
SUMMARY:SSAFA Veterans and Families Sunday Lunch
DESCRIPTION:SSAFA Lunch Club
URL:https://www.bramleywarmemorial.com/event/ssafa-veterans-and-families-sunday-lunch-2019-07-07/
ATTACH;FMTTYPE=image/jpeg:https://www.bramleywarmemorial.com/wp-content/uploads/2018/06/SSAFA.jpg
END:VEVENT
BEGIN:VEVENT
DTSTART;TZID=Europe/London:20190629T110000
DTEND;TZID=Europe/London:20190629T160000
DTSTAMP:20260421T230727
CREATED:20190513T155948Z
LAST-MODIFIED:20190513T155948Z
UID:6324-1561806000-1561824000@www.bramleywarmemorial.com
SUMMARY:Leeds Armed Forces Day\, Briggate\, Leeds City Centre
DESCRIPTION:We are pleased to promote and support this year’s Armed Forces Day\, held at Briggate on Saturday 29th June.
URL:https://www.bramleywarmemorial.com/event/leeds-armed-forces-day-briggate-leeds-city-centre/
LOCATION:Leeds City Museum\, Cookridge Street\, Leeds\, LS2 8BH\, United Kingdom
ATTACH;FMTTYPE=image/jpeg:https://www.bramleywarmemorial.com/wp-content/uploads/2019/05/Armed-Forces-Day-2019.jpg
END:VEVENT
BEGIN:VEVENT
DTSTART;TZID=Europe/London:20190626T123000
DTEND;TZID=Europe/London:20190626T143000
DTSTAMP:20260421T230727
CREATED:20160115T121656Z
LAST-MODIFIED:20190110T163033Z
UID:6011-1561552200-1561559400@www.bramleywarmemorial.com
SUMMARY:Bramley Baptists War and Remembered Graves Clean Up
DESCRIPTION:Close up of the Grave Furniture designed\, produced and placed by Students at West Leeds Academy.
URL:https://www.bramleywarmemorial.com/event/bramley-baptists-war-and-remembered-graves-clean-up-2019-07-03/
LOCATION:Bramley Baptist Church Yard\, LS13 3RD
ORGANIZER;CN="John Barker":MAILTO:bramleywm@aol.com
END:VEVENT
BEGIN:VEVENT
DTSTART;TZID=Europe/London:20190612T123000
DTEND;TZID=Europe/London:20190612T143000
DTSTAMP:20260421T230727
CREATED:20160115T121656Z
LAST-MODIFIED:20190110T162914Z
UID:6010-1560342600-1560349800@www.bramleywarmemorial.com
SUMMARY:Bramley Baptists War and Remembered Graves Clean Up
DESCRIPTION:Close up of the Grave Furniture designed\, produced and placed by Students at West Leeds Academy.
URL:https://www.bramleywarmemorial.com/event/bramley-baptists-war-and-remembered-graves-clean-up-2019-06-19/
LOCATION:Bramley Baptist Church Yard\, LS13 3RD
ORGANIZER;CN="John Barker":MAILTO:bramleywm@aol.com
END:VEVENT
BEGIN:VEVENT
DTSTART;TZID=Europe/London:20190602T123000
DTEND;TZID=Europe/London:20190602T150000
DTSTAMP:20260421T230727
CREATED:20180619T103951Z
LAST-MODIFIED:20180619T103951Z
UID:6130-1559478600-1559487600@www.bramleywarmemorial.com
SUMMARY:SSAFA Veterans and Families Sunday Lunch
DESCRIPTION:SSAFA Lunch Club
URL:https://www.bramleywarmemorial.com/event/ssafa-veterans-and-families-sunday-lunch-2019-06-02/
ATTACH;FMTTYPE=image/jpeg:https://www.bramleywarmemorial.com/wp-content/uploads/2018/06/SSAFA.jpg
END:VEVENT
BEGIN:VEVENT
DTSTART;TZID=Europe/London:20190529T123000
DTEND;TZID=Europe/London:20190529T143000
DTSTAMP:20260421T230727
CREATED:20160115T121656Z
LAST-MODIFIED:20190110T162719Z
UID:6009-1559133000-1559140200@www.bramleywarmemorial.com
SUMMARY:Bramley Baptists War and Remembered Graves Clean Up
DESCRIPTION:Close up of the Grave Furniture designed\, produced and placed by Students at West Leeds Academy.
URL:https://www.bramleywarmemorial.com/event/bramley-baptists-war-and-remembered-graves-clean-up-2019-06-05/
LOCATION:Bramley Baptist Church Yard\, LS13 3RD
ORGANIZER;CN="John Barker":MAILTO:bramleywm@aol.com
END:VEVENT
BEGIN:VEVENT
DTSTART;TZID=Europe/London:20190515T123000
DTEND;TZID=Europe/London:20190515T143000
DTSTAMP:20260421T230727
CREATED:20160115T121656Z
LAST-MODIFIED:20190110T162547Z
UID:6008-1557923400-1557930600@www.bramleywarmemorial.com
SUMMARY:Bramley Baptists War and Remembered Graves Clean Up
DESCRIPTION:Close up of the Grave Furniture designed\, produced and placed by Students at West Leeds Academy.
URL:https://www.bramleywarmemorial.com/event/bramley-baptists-war-and-remembered-graves-clean-up-2019-05-22/
LOCATION:Bramley Baptist Church Yard\, LS13 3RD
ORGANIZER;CN="John Barker":MAILTO:bramleywm@aol.com
END:VEVENT
BEGIN:VEVENT
DTSTART;TZID=Europe/London:20190505T123000
DTEND;TZID=Europe/London:20190505T150000
DTSTAMP:20260421T230727
CREATED:20180619T103915Z
LAST-MODIFIED:20180619T103915Z
UID:6129-1557059400-1557068400@www.bramleywarmemorial.com
SUMMARY:SSAFA Veterans and Families Sunday Lunch
DESCRIPTION:SSAFA Lunch Club
URL:https://www.bramleywarmemorial.com/event/ssafa-veterans-and-families-sunday-lunch-2019-05-05/
ATTACH;FMTTYPE=image/jpeg:https://www.bramleywarmemorial.com/wp-content/uploads/2018/06/SSAFA.jpg
END:VEVENT
BEGIN:VEVENT
DTSTART;TZID=Europe/London:20190501T123000
DTEND;TZID=Europe/London:20190501T143000
DTSTAMP:20260421T230727
CREATED:20160115T121656Z
LAST-MODIFIED:20190110T162448Z
UID:6007-1556713800-1556721000@www.bramleywarmemorial.com
SUMMARY:Bramley Baptists War and Remembered Graves Clean Up
DESCRIPTION:Close up of the Grave Furniture designed\, produced and placed by Students at West Leeds Academy.
URL:https://www.bramleywarmemorial.com/event/bramley-baptists-war-and-remembered-graves-clean-up-2019-05-08/
LOCATION:Bramley Baptist Church Yard\, LS13 3RD
ORGANIZER;CN="John Barker":MAILTO:bramleywm@aol.com
END:VEVENT
BEGIN:VEVENT
DTSTART;TZID=Europe/London:20190417T123000
DTEND;TZID=Europe/London:20190417T143000
DTSTAMP:20260421T230727
CREATED:20160115T121656Z
LAST-MODIFIED:20190110T162326Z
UID:6006-1555504200-1555511400@www.bramleywarmemorial.com
SUMMARY:Bramley Baptists War and Remembered Graves Clean Up
DESCRIPTION:Close up of the Grave Furniture designed\, produced and placed by Students at West Leeds Academy.
URL:https://www.bramleywarmemorial.com/event/bramley-baptists-war-and-remembered-graves-clean-up-2019-04-24/
LOCATION:Bramley Baptist Church Yard\, LS13 3RD
ORGANIZER;CN="John Barker":MAILTO:bramleywm@aol.com
END:VEVENT
BEGIN:VEVENT
DTSTART;TZID=Europe/London:20190407T123000
DTEND;TZID=Europe/London:20190407T150000
DTSTAMP:20260421T230727
CREATED:20180619T103915Z
LAST-MODIFIED:20180619T103915Z
UID:6128-1554640200-1554649200@www.bramleywarmemorial.com
SUMMARY:SSAFA Veterans and Families Sunday Lunch
DESCRIPTION:SSAFA Lunch Club
URL:https://www.bramleywarmemorial.com/event/ssafa-veterans-and-families-sunday-lunch-2019-04-07/
ATTACH;FMTTYPE=image/jpeg:https://www.bramleywarmemorial.com/wp-content/uploads/2018/06/SSAFA.jpg
END:VEVENT
BEGIN:VEVENT
DTSTART;TZID=Europe/London:20190403T123000
DTEND;TZID=Europe/London:20190403T143000
DTSTAMP:20260421T230727
CREATED:20160115T121656Z
LAST-MODIFIED:20190110T162220Z
UID:6005-1554294600-1554301800@www.bramleywarmemorial.com
SUMMARY:Bramley Baptists War and Remembered Graves Clean Up
DESCRIPTION:Close up of the Grave Furniture designed\, produced and placed by Students at West Leeds Academy.
URL:https://www.bramleywarmemorial.com/event/bramley-baptists-war-and-remembered-graves-clean-up-2019-04-10/
LOCATION:Bramley Baptist Church Yard\, LS13 3RD
ORGANIZER;CN="John Barker":MAILTO:bramleywm@aol.com
END:VEVENT
BEGIN:VEVENT
DTSTART;TZID=Europe/London:20190320T123000
DTEND;TZID=Europe/London:20190320T143000
DTSTAMP:20260421T230727
CREATED:20160115T121656Z
LAST-MODIFIED:20190110T162110Z
UID:6004-1553085000-1553092200@www.bramleywarmemorial.com
SUMMARY:Bramley Baptists War and Remembered Graves Clean Up
DESCRIPTION:Close up of the Grave Furniture designed\, produced and placed by Students at West Leeds Academy.
URL:https://www.bramleywarmemorial.com/event/bramley-baptists-war-and-remembered-graves-clean-up-2019-03-27/
LOCATION:Bramley Baptist Church Yard\, LS13 3RD
ORGANIZER;CN="John Barker":MAILTO:bramleywm@aol.com
END:VEVENT
BEGIN:VEVENT
DTSTART;TZID=Europe/London:20190306T123000
DTEND;TZID=Europe/London:20190306T123000
DTSTAMP:20260421T230727
CREATED:20160115T121656Z
LAST-MODIFIED:20190110T162015Z
UID:6003-1551875400-1551875400@www.bramleywarmemorial.com
SUMMARY:Bramley Baptists War and Remembered Graves Clean Up
DESCRIPTION:Close up of the Grave Furniture designed\, produced and placed by Students at West Leeds Academy.
URL:https://www.bramleywarmemorial.com/event/bramley-baptists-war-and-remembered-graves-clean-up-2019-03-13/
LOCATION:Bramley Baptist Church Yard\, LS13 3RD
ORGANIZER;CN="John Barker":MAILTO:bramleywm@aol.com
END:VEVENT
BEGIN:VEVENT
DTSTART;TZID=Europe/London:20190303T123000
DTEND;TZID=Europe/London:20190303T150000
DTSTAMP:20260421T230727
CREATED:20180619T103915Z
LAST-MODIFIED:20180619T103915Z
UID:6127-1551616200-1551625200@www.bramleywarmemorial.com
SUMMARY:SSAFA Veterans and Families Sunday Lunch
DESCRIPTION:SSAFA Lunch Club
URL:https://www.bramleywarmemorial.com/event/ssafa-veterans-and-families-sunday-lunch-2019-03-03/
ATTACH;FMTTYPE=image/jpeg:https://www.bramleywarmemorial.com/wp-content/uploads/2018/06/SSAFA.jpg
END:VEVENT
BEGIN:VEVENT
DTSTART;TZID=Europe/London:20190220T123000
DTEND;TZID=Europe/London:20190220T143000
DTSTAMP:20260421T230727
CREATED:20160115T121656Z
LAST-MODIFIED:20190110T161841Z
UID:6002-1550665800-1550673000@www.bramleywarmemorial.com
SUMMARY:Bramley Baptists War and Remembered Graves Clean Up
DESCRIPTION:Close up of the Grave Furniture designed\, produced and placed by Students at West Leeds Academy.
URL:https://www.bramleywarmemorial.com/event/bramley-baptists-war-and-remembered-graves-clean-up-2019-02-27/
LOCATION:Bramley Baptist Church Yard\, LS13 3RD
ORGANIZER;CN="John Barker":MAILTO:bramleywm@aol.com
END:VEVENT
BEGIN:VEVENT
DTSTART;TZID=Europe/London:20190206T123000
DTEND;TZID=Europe/London:20190206T143000
DTSTAMP:20260421T230727
CREATED:20160115T121656Z
LAST-MODIFIED:20190110T161705Z
UID:6001-1549456200-1549463400@www.bramleywarmemorial.com
SUMMARY:Bramley Baptists War and Remembered Graves Clean Up
DESCRIPTION:Close up of the Grave Furniture designed\, produced and placed by Students at West Leeds Academy.
URL:https://www.bramleywarmemorial.com/event/bramley-baptists-war-and-remembered-graves-clean-up-2019-02-13/
LOCATION:Bramley Baptist Church Yard\, LS13 3RD
ORGANIZER;CN="John Barker":MAILTO:bramleywm@aol.com
END:VEVENT
BEGIN:VEVENT
DTSTART;TZID=Europe/London:20190203T123000
DTEND;TZID=Europe/London:20190203T150000
DTSTAMP:20260421T230727
CREATED:20180619T103915Z
LAST-MODIFIED:20180619T103915Z
UID:6126-1549197000-1549206000@www.bramleywarmemorial.com
SUMMARY:SSAFA Veterans and Families Sunday Lunch
DESCRIPTION:SSAFA Lunch Club
URL:https://www.bramleywarmemorial.com/event/ssafa-veterans-and-families-sunday-lunch-2019-02-03/
ATTACH;FMTTYPE=image/jpeg:https://www.bramleywarmemorial.com/wp-content/uploads/2018/06/SSAFA.jpg
END:VEVENT
BEGIN:VEVENT
DTSTART;TZID=Europe/London:20190123T123000
DTEND;TZID=Europe/London:20190123T143000
DTSTAMP:20260421T230727
CREATED:20160115T121656Z
LAST-MODIFIED:20190110T133909Z
UID:6000-1548246600-1548253800@www.bramleywarmemorial.com
SUMMARY:Bramley Baptists War and Remembered Graves Clean Up
DESCRIPTION:Close up of the Grave Furniture designed\, produced and placed by Students at West Leeds Academy.
URL:https://www.bramleywarmemorial.com/event/bramley-baptists-war-and-remembered-graves-clean-up-2019-01-30/
LOCATION:Bramley Baptist Church Yard\, LS13 3RD
ORGANIZER;CN="John Barker":MAILTO:bramleywm@aol.com
END:VEVENT
BEGIN:VEVENT
DTSTART;TZID=Europe/London:20190106T123000
DTEND;TZID=Europe/London:20190106T150000
DTSTAMP:20260421T230727
CREATED:20180619T103914Z
LAST-MODIFIED:20180619T103914Z
UID:6125-1546777800-1546786800@www.bramleywarmemorial.com
SUMMARY:SSAFA Veterans and Families Sunday Lunch
DESCRIPTION:SSAFA Lunch Club
URL:https://www.bramleywarmemorial.com/event/ssafa-veterans-and-families-sunday-lunch-2019-01-06/
ATTACH;FMTTYPE=image/jpeg:https://www.bramleywarmemorial.com/wp-content/uploads/2018/06/SSAFA.jpg
END:VEVENT
BEGIN:VEVENT
DTSTART;TZID=Europe/London:20190102T123000
DTEND;TZID=Europe/London:20190102T143000
DTSTAMP:20260421T230727
CREATED:20160115T121656Z
LAST-MODIFIED:20180925T151214Z
UID:5998-1546432200-1546439400@www.bramleywarmemorial.com
SUMMARY:Bramley Baptists War and Remembered Graves Clean Up
DESCRIPTION:Close up of the Grave Furniture designed\, produced and placed by Students at West Leeds Academy.
URL:https://www.bramleywarmemorial.com/event/bramley-baptists-war-and-remembered-graves-clean-up-2019-01-02/
LOCATION:Bramley Baptist Church Yard\, LS13 3RD
ORGANIZER;CN="John Barker":MAILTO:bramleywm@aol.com
END:VEVENT
BEGIN:VEVENT
DTSTART;TZID=Europe/London:20181219T123000
DTEND;TZID=Europe/London:20181219T143000
DTSTAMP:20260421T230727
CREATED:20160115T121656Z
LAST-MODIFIED:20180925T151214Z
UID:5997-1545222600-1545229800@www.bramleywarmemorial.com
SUMMARY:Bramley Baptists War and Remembered Graves Clean Up
DESCRIPTION:Close up of the Grave Furniture designed\, produced and placed by Students at West Leeds Academy.
URL:https://www.bramleywarmemorial.com/event/bramley-baptists-war-and-remembered-graves-clean-up-2018-12-19/
LOCATION:Bramley Baptist Church Yard\, LS13 3RD
ORGANIZER;CN="John Barker":MAILTO:bramleywm@aol.com
END:VEVENT
BEGIN:VEVENT
DTSTART;TZID=Europe/London:20181205T123000
DTEND;TZID=Europe/London:20181205T143000
DTSTAMP:20260421T230727
CREATED:20160115T121656Z
LAST-MODIFIED:20180925T151214Z
UID:5996-1544013000-1544020200@www.bramleywarmemorial.com
SUMMARY:Bramley Baptists War and Remembered Graves Clean Up
DESCRIPTION:Close up of the Grave Furniture designed\, produced and placed by Students at West Leeds Academy.
URL:https://www.bramleywarmemorial.com/event/bramley-baptists-war-and-remembered-graves-clean-up-2018-12-05/
LOCATION:Bramley Baptist Church Yard\, LS13 3RD
ORGANIZER;CN="John Barker":MAILTO:bramleywm@aol.com
END:VEVENT
BEGIN:VEVENT
DTSTART;VALUE=DATE:20181204
DTEND;VALUE=DATE:20181205
DTSTAMP:20260421T230727
CREATED:20180303T163215Z
LAST-MODIFIED:20250415T134409Z
UID:5899-1543881600-1543967999@www.bramleywarmemorial.com
SUMMARY:Royal Artillery Flag Event on 3rd. March 2018
DESCRIPTION:We shall be flying either a Royal Artillery Standard or our own Union Flag to mark the artillery men named on the Memorial.
URL:https://www.bramleywarmemorial.com/event/royal-artillery-flag-event/
LOCATION:Bramley War Memorial\, LS13 3JZ
ATTACH;FMTTYPE=image/jpeg:https://www.bramleywarmemorial.com/wp-content/uploads/2016/02/Our-Union-Flag-raised-from-Bramley-Villagers-Bucket-Collection.jpg
END:VEVENT
BEGIN:VEVENT
DTSTART;TZID=Europe/London:20181202T123000
DTEND;TZID=Europe/London:20181202T150000
DTSTAMP:20260421T230727
CREATED:20180619T103914Z
LAST-MODIFIED:20180619T103914Z
UID:6124-1543753800-1543762800@www.bramleywarmemorial.com
SUMMARY:SSAFA Veterans and Families Sunday Lunch
DESCRIPTION:SSAFA Lunch Club
URL:https://www.bramleywarmemorial.com/event/ssafa-veterans-and-families-sunday-lunch-2018-12-02/
ATTACH;FMTTYPE=image/jpeg:https://www.bramleywarmemorial.com/wp-content/uploads/2018/06/SSAFA.jpg
END:VEVENT
BEGIN:VEVENT
DTSTART;TZID=Europe/London:20181121T123000
DTEND;TZID=Europe/London:20181121T143000
DTSTAMP:20260421T230727
CREATED:20160115T121656Z
LAST-MODIFIED:20180925T151214Z
UID:5995-1542803400-1542810600@www.bramleywarmemorial.com
SUMMARY:Bramley Baptists War and Remembered Graves Clean Up
DESCRIPTION:Close up of the Grave Furniture designed\, produced and placed by Students at West Leeds Academy.
URL:https://www.bramleywarmemorial.com/event/bramley-baptists-war-and-remembered-graves-clean-up-2018-11-21/
LOCATION:Bramley Baptist Church Yard\, LS13 3RD
ORGANIZER;CN="John Barker":MAILTO:bramleywm@aol.com
END:VEVENT
BEGIN:VEVENT
DTSTART;TZID=Europe/London:20181111T103000
DTEND;TZID=Europe/London:20181111T113000
DTSTAMP:20260421T230727
CREATED:20180303T162624Z
LAST-MODIFIED:20180303T162624Z
UID:5898-1541932200-1541935800@www.bramleywarmemorial.com
SUMMARY:Remembrance Sunday 2018
DESCRIPTION:This year’s Armistice Service will also be Remembrance Sunday\, full details will be given during the coming months.
URL:https://www.bramleywarmemorial.com/event/remembrance-sunday-2018/
LOCATION:Bramley War Memorial\, LS13 3JZ
ATTACH;FMTTYPE=image/jpeg:https://www.bramleywarmemorial.com/wp-content/uploads/2016/11/November-13th.jpg
END:VEVENT
BEGIN:VEVENT
DTSTART;TZID=Europe/London:20181107T123000
DTEND;TZID=Europe/London:20181107T143000
DTSTAMP:20260421T230727
CREATED:20160115T121656Z
LAST-MODIFIED:20180925T151756Z
UID:5994-1541593800-1541601000@www.bramleywarmemorial.com
SUMMARY:Bramley Baptists War and Remembered Graves Clean Up
DESCRIPTION:Close up of the Grave Furniture designed\, produced and placed by Students at West Leeds Academy. \nThis Wednesday we will be dressing the Graves we care for with Cross\, Poppy and flower\, all assistance greatly appreciated.
URL:https://www.bramleywarmemorial.com/event/bramley-baptists-war-and-remembered-graves-clean-up-2018-11-07/
LOCATION:Bramley Baptist Church Yard\, LS13 3RD
ORGANIZER;CN="John Barker":MAILTO:bramleywm@aol.com
END:VEVENT
BEGIN:VEVENT
DTSTART;TZID=Europe/London:20181104T123000
DTEND;TZID=Europe/London:20181104T150000
DTSTAMP:20260421T230727
CREATED:20180619T103914Z
LAST-MODIFIED:20180619T103914Z
UID:6123-1541334600-1541343600@www.bramleywarmemorial.com
SUMMARY:SSAFA Veterans and Families Sunday Lunch
DESCRIPTION:SSAFA Lunch Club
URL:https://www.bramleywarmemorial.com/event/ssafa-veterans-and-families-sunday-lunch-2018-11-04/
ATTACH;FMTTYPE=image/jpeg:https://www.bramleywarmemorial.com/wp-content/uploads/2018/06/SSAFA.jpg
END:VEVENT
END:VCALENDAR