BEGIN:VCALENDAR
VERSION:2.0
PRODID:-//Bramley War Memorial - ECPv6.14.2//NONSGML v1.0//EN
CALSCALE:GREGORIAN
METHOD:PUBLISH
X-WR-CALNAME:Bramley War Memorial
X-ORIGINAL-URL:https://www.bramleywarmemorial.com
X-WR-CALDESC:Events for Bramley War Memorial
REFRESH-INTERVAL;VALUE=DURATION:PT1H
X-Robots-Tag:noindex
X-PUBLISHED-TTL:PT1H
BEGIN:VTIMEZONE
TZID:Europe/London
BEGIN:DAYLIGHT
TZOFFSETFROM:+0000
TZOFFSETTO:+0100
TZNAME:BST
DTSTART:20190331T010000
END:DAYLIGHT
BEGIN:STANDARD
TZOFFSETFROM:+0100
TZOFFSETTO:+0000
TZNAME:GMT
DTSTART:20191027T010000
END:STANDARD
BEGIN:DAYLIGHT
TZOFFSETFROM:+0000
TZOFFSETTO:+0100
TZNAME:BST
DTSTART:20200329T010000
END:DAYLIGHT
BEGIN:STANDARD
TZOFFSETFROM:+0100
TZOFFSETTO:+0000
TZNAME:GMT
DTSTART:20201025T010000
END:STANDARD
END:VTIMEZONE
BEGIN:VEVENT
DTSTART;TZID=Europe/London:20200701T123000
DTEND;TZID=Europe/London:20200701T143000
DTSTAMP:20260421T162917
CREATED:20160115T121656Z
LAST-MODIFIED:20180925T151323Z
UID:6143-1593606600-1593613800@www.bramleywarmemorial.com
SUMMARY:Bramley Baptists War and Remembered Graves Clean Up
DESCRIPTION:Close up of the Grave Furniture designed\, produced and placed by Students at West Leeds Academy.
URL:https://www.bramleywarmemorial.com/event/bramley-baptists-war-and-remembered-graves-clean-up-2020-07-01/
LOCATION:Bramley Baptist Church Yard\, LS13 3RD
ORGANIZER;CN="John Barker":MAILTO:bramleywm@aol.com
END:VEVENT
BEGIN:VEVENT
DTSTART;TZID=Europe/London:20200617T123000
DTEND;TZID=Europe/London:20200617T143000
DTSTAMP:20260421T162917
CREATED:20160115T121656Z
LAST-MODIFIED:20180925T151323Z
UID:6106-1592397000-1592404200@www.bramleywarmemorial.com
SUMMARY:Bramley Baptists War and Remembered Graves Clean Up
DESCRIPTION:Close up of the Grave Furniture designed\, produced and placed by Students at West Leeds Academy.
URL:https://www.bramleywarmemorial.com/event/bramley-baptists-war-and-remembered-graves-clean-up-2020-06-17/
LOCATION:Bramley Baptist Church Yard\, LS13 3RD
ORGANIZER;CN="John Barker":MAILTO:bramleywm@aol.com
END:VEVENT
BEGIN:VEVENT
DTSTART;TZID=Europe/London:20200607T123000
DTEND;TZID=Europe/London:20200607T150000
DTSTAMP:20260421T162917
CREATED:20180619T104008Z
LAST-MODIFIED:20180619T104008Z
UID:6142-1591533000-1591542000@www.bramleywarmemorial.com
SUMMARY:SSAFA Veterans and Families Sunday Lunch
DESCRIPTION:SSAFA Lunch Club
URL:https://www.bramleywarmemorial.com/event/ssafa-veterans-and-families-sunday-lunch-2020-06-07/
ATTACH;FMTTYPE=image/jpeg:https://www.bramleywarmemorial.com/wp-content/uploads/2018/06/SSAFA.jpg
END:VEVENT
BEGIN:VEVENT
DTSTART;TZID=Europe/London:20200603T123000
DTEND;TZID=Europe/London:20200603T143000
DTSTAMP:20260421T162917
CREATED:20160115T121656Z
LAST-MODIFIED:20180925T151323Z
UID:6105-1591187400-1591194600@www.bramleywarmemorial.com
SUMMARY:Bramley Baptists War and Remembered Graves Clean Up
DESCRIPTION:Close up of the Grave Furniture designed\, produced and placed by Students at West Leeds Academy.
URL:https://www.bramleywarmemorial.com/event/bramley-baptists-war-and-remembered-graves-clean-up-2020-06-03/
LOCATION:Bramley Baptist Church Yard\, LS13 3RD
ORGANIZER;CN="John Barker":MAILTO:bramleywm@aol.com
END:VEVENT
BEGIN:VEVENT
DTSTART;TZID=Europe/London:20200520T123000
DTEND;TZID=Europe/London:20200520T143000
DTSTAMP:20260421T162917
CREATED:20160115T121656Z
LAST-MODIFIED:20180925T151323Z
UID:6035-1589977800-1589985000@www.bramleywarmemorial.com
SUMMARY:Bramley Baptists War and Remembered Graves Clean Up
DESCRIPTION:Close up of the Grave Furniture designed\, produced and placed by Students at West Leeds Academy.
URL:https://www.bramleywarmemorial.com/event/bramley-baptists-war-and-remembered-graves-clean-up-2020-05-20/
LOCATION:Bramley Baptist Church Yard\, LS13 3RD
ORGANIZER;CN="John Barker":MAILTO:bramleywm@aol.com
END:VEVENT
BEGIN:VEVENT
DTSTART;VALUE=DATE:20200508
DTEND;VALUE=DATE:20200509
DTSTAMP:20260421T162917
CREATED:20190805T180334Z
LAST-MODIFIED:20200331T181220Z
UID:6348-1588896000-1588982399@www.bramleywarmemorial.com
SUMMARY:75th Anniversary of VE Day\, Friday May 8th 2020
DESCRIPTION:Message from Caroline Gruen\, Chair of the Friends of Bramley War Memorial \nThe Friends of Bramley War Memorial have reluctantly had to take the decision to cancel the planned event to honour the anniversary of VE Day on 8th May\, due to the risks of the current Coronavirus pandemic. We are very sorry that we cannot invite you  collectively to remember those who were fighting on the home front on the day itself\, but we are hoping to remember\, honour and thank them at an organised event to embrace both VE Day\, and VJ Day on 15th August. \nAs a mark of respect\, Norah Gibson\, a Friend of Bramley War Memorial and myself will (in a group of two only\, in line with Coronavirus advice) lay a single wreath at the memorial\, on behalf of the Bramley and Stanningley communities. We will do this at 3.00pm\, the exact time that Churchill delivered his speech. \nOur Union Flag will be flown and a lantern with lit  candle will be on display. \nIf you have any memories\, photos or memorabilia which has come in to the family through relatives we would be really pleased to see and share it for the purpose of making a book or something similar for access by our community. You can do this by contacting John Barker\, Secretary of The Friends of Bramley War Memorial at email bramleywm@aol.com or by direct message. \nWe will remember together\, but sadly physically apart on 8th May. \nCaroline
URL:https://www.bramleywarmemorial.com/event/75th-anniversary-of-ve-day-friday-may-8th-2020/
LOCATION:Bramley War Memorial\, LS13 3JZ
ATTACH;FMTTYPE=image/jpeg:https://www.bramleywarmemorial.com/wp-content/uploads/2020/03/VE-Image.jpg
END:VEVENT
BEGIN:VEVENT
DTSTART;TZID=Europe/London:20200506T123000
DTEND;TZID=Europe/London:20200506T143000
DTSTAMP:20260421T162917
CREATED:20160115T121656Z
LAST-MODIFIED:20180925T151323Z
UID:6034-1588768200-1588775400@www.bramleywarmemorial.com
SUMMARY:Bramley Baptists War and Remembered Graves Clean Up
DESCRIPTION:Close up of the Grave Furniture designed\, produced and placed by Students at West Leeds Academy.
URL:https://www.bramleywarmemorial.com/event/bramley-baptists-war-and-remembered-graves-clean-up-2020-05-06/
LOCATION:Bramley Baptist Church Yard\, LS13 3RD
ORGANIZER;CN="John Barker":MAILTO:bramleywm@aol.com
END:VEVENT
BEGIN:VEVENT
DTSTART;TZID=Europe/London:20200503T123000
DTEND;TZID=Europe/London:20200503T150000
DTSTAMP:20260421T162917
CREATED:20180619T104008Z
LAST-MODIFIED:20180619T104008Z
UID:6141-1588509000-1588518000@www.bramleywarmemorial.com
SUMMARY:SSAFA Veterans and Families Sunday Lunch
DESCRIPTION:SSAFA Lunch Club
URL:https://www.bramleywarmemorial.com/event/ssafa-veterans-and-families-sunday-lunch-2020-05-03/
ATTACH;FMTTYPE=image/jpeg:https://www.bramleywarmemorial.com/wp-content/uploads/2018/06/SSAFA.jpg
END:VEVENT
BEGIN:VEVENT
DTSTART;TZID=Europe/London:20200422T123000
DTEND;TZID=Europe/London:20200422T143000
DTSTAMP:20260421T162917
CREATED:20160115T121656Z
LAST-MODIFIED:20180925T151323Z
UID:6032-1587558600-1587565800@www.bramleywarmemorial.com
SUMMARY:Bramley Baptists War and Remembered Graves Clean Up
DESCRIPTION:Close up of the Grave Furniture designed\, produced and placed by Students at West Leeds Academy.
URL:https://www.bramleywarmemorial.com/event/bramley-baptists-war-and-remembered-graves-clean-up-2020-04-22/
LOCATION:Bramley Baptist Church Yard\, LS13 3RD
ORGANIZER;CN="John Barker":MAILTO:bramleywm@aol.com
END:VEVENT
BEGIN:VEVENT
DTSTART;TZID=Europe/London:20200408T123000
DTEND;TZID=Europe/London:20200408T143000
DTSTAMP:20260421T162917
CREATED:20160115T121656Z
LAST-MODIFIED:20180925T151323Z
UID:6031-1586349000-1586356200@www.bramleywarmemorial.com
SUMMARY:Bramley Baptists War and Remembered Graves Clean Up
DESCRIPTION:Close up of the Grave Furniture designed\, produced and placed by Students at West Leeds Academy.
URL:https://www.bramleywarmemorial.com/event/bramley-baptists-war-and-remembered-graves-clean-up-2020-04-08/
LOCATION:Bramley Baptist Church Yard\, LS13 3RD
ORGANIZER;CN="John Barker":MAILTO:bramleywm@aol.com
END:VEVENT
BEGIN:VEVENT
DTSTART;TZID=Europe/London:20200405T123000
DTEND;TZID=Europe/London:20200405T150000
DTSTAMP:20260421T162917
CREATED:20180619T104008Z
LAST-MODIFIED:20180619T104008Z
UID:6140-1586089800-1586098800@www.bramleywarmemorial.com
SUMMARY:SSAFA Veterans and Families Sunday Lunch
DESCRIPTION:SSAFA Lunch Club
URL:https://www.bramleywarmemorial.com/event/ssafa-veterans-and-families-sunday-lunch-2020-04-05/
ATTACH;FMTTYPE=image/jpeg:https://www.bramleywarmemorial.com/wp-content/uploads/2018/06/SSAFA.jpg
END:VEVENT
BEGIN:VEVENT
DTSTART;TZID=Europe/London:20200325T123000
DTEND;TZID=Europe/London:20200325T143000
DTSTAMP:20260421T162917
CREATED:20160115T121656Z
LAST-MODIFIED:20180925T151307Z
UID:6030-1585139400-1585146600@www.bramleywarmemorial.com
SUMMARY:Bramley Baptists War and Remembered Graves Clean Up
DESCRIPTION:Close up of the Grave Furniture designed\, produced and placed by Students at West Leeds Academy.
URL:https://www.bramleywarmemorial.com/event/bramley-baptists-war-and-remembered-graves-clean-up-2020-03-25/
LOCATION:Bramley Baptist Church Yard\, LS13 3RD
ORGANIZER;CN="John Barker":MAILTO:bramleywm@aol.com
END:VEVENT
BEGIN:VEVENT
DTSTART;TZID=Europe/London:20200311T123000
DTEND;TZID=Europe/London:20200311T143000
DTSTAMP:20260421T162917
CREATED:20160115T121656Z
LAST-MODIFIED:20180925T151307Z
UID:6029-1583929800-1583937000@www.bramleywarmemorial.com
SUMMARY:Bramley Baptists War and Remembered Graves Clean Up
DESCRIPTION:Close up of the Grave Furniture designed\, produced and placed by Students at West Leeds Academy.
URL:https://www.bramleywarmemorial.com/event/bramley-baptists-war-and-remembered-graves-clean-up-2020-03-11/
LOCATION:Bramley Baptist Church Yard\, LS13 3RD
ORGANIZER;CN="John Barker":MAILTO:bramleywm@aol.com
END:VEVENT
BEGIN:VEVENT
DTSTART;TZID=Europe/London:20200301T123000
DTEND;TZID=Europe/London:20200301T150000
DTSTAMP:20260421T162917
CREATED:20180619T103951Z
LAST-MODIFIED:20180619T103951Z
UID:6139-1583065800-1583074800@www.bramleywarmemorial.com
SUMMARY:SSAFA Veterans and Families Sunday Lunch
DESCRIPTION:SSAFA Lunch Club
URL:https://www.bramleywarmemorial.com/event/ssafa-veterans-and-families-sunday-lunch-2020-03-01/
ATTACH;FMTTYPE=image/jpeg:https://www.bramleywarmemorial.com/wp-content/uploads/2018/06/SSAFA.jpg
END:VEVENT
BEGIN:VEVENT
DTSTART;TZID=Europe/London:20200226T123000
DTEND;TZID=Europe/London:20200226T143000
DTSTAMP:20260421T162917
CREATED:20160115T121656Z
LAST-MODIFIED:20180925T151307Z
UID:6028-1582720200-1582727400@www.bramleywarmemorial.com
SUMMARY:Bramley Baptists War and Remembered Graves Clean Up
DESCRIPTION:Close up of the Grave Furniture designed\, produced and placed by Students at West Leeds Academy.
URL:https://www.bramleywarmemorial.com/event/bramley-baptists-war-and-remembered-graves-clean-up-2020-02-26/
LOCATION:Bramley Baptist Church Yard\, LS13 3RD
ORGANIZER;CN="John Barker":MAILTO:bramleywm@aol.com
END:VEVENT
BEGIN:VEVENT
DTSTART;TZID=Europe/London:20200212T123000
DTEND;TZID=Europe/London:20200212T143000
DTSTAMP:20260421T162917
CREATED:20160115T121656Z
LAST-MODIFIED:20180925T151307Z
UID:6027-1581510600-1581517800@www.bramleywarmemorial.com
SUMMARY:Bramley Baptists War and Remembered Graves Clean Up
DESCRIPTION:Close up of the Grave Furniture designed\, produced and placed by Students at West Leeds Academy.
URL:https://www.bramleywarmemorial.com/event/bramley-baptists-war-and-remembered-graves-clean-up-2020-02-12/
LOCATION:Bramley Baptist Church Yard\, LS13 3RD
ORGANIZER;CN="John Barker":MAILTO:bramleywm@aol.com
END:VEVENT
BEGIN:VEVENT
DTSTART;TZID=Europe/London:20200202T123000
DTEND;TZID=Europe/London:20200202T150000
DTSTAMP:20260421T162917
CREATED:20180619T103951Z
LAST-MODIFIED:20180619T103951Z
UID:6138-1580646600-1580655600@www.bramleywarmemorial.com
SUMMARY:SSAFA Veterans and Families Sunday Lunch
DESCRIPTION:SSAFA Lunch Club
URL:https://www.bramleywarmemorial.com/event/ssafa-veterans-and-families-sunday-lunch-2020-02-02/
ATTACH;FMTTYPE=image/jpeg:https://www.bramleywarmemorial.com/wp-content/uploads/2018/06/SSAFA.jpg
END:VEVENT
BEGIN:VEVENT
DTSTART;TZID=Europe/London:20200129T123000
DTEND;TZID=Europe/London:20200129T143000
DTSTAMP:20260421T162917
CREATED:20160115T121656Z
LAST-MODIFIED:20180925T151306Z
UID:6026-1580301000-1580308200@www.bramleywarmemorial.com
SUMMARY:Bramley Baptists War and Remembered Graves Clean Up
DESCRIPTION:Close up of the Grave Furniture designed\, produced and placed by Students at West Leeds Academy.
URL:https://www.bramleywarmemorial.com/event/bramley-baptists-war-and-remembered-graves-clean-up-2020-01-29/
LOCATION:Bramley Baptist Church Yard\, LS13 3RD
ORGANIZER;CN="John Barker":MAILTO:bramleywm@aol.com
END:VEVENT
BEGIN:VEVENT
DTSTART;TZID=Europe/London:20200115T123000
DTEND;TZID=Europe/London:20200115T143000
DTSTAMP:20260421T162917
CREATED:20160115T121656Z
LAST-MODIFIED:20180925T151306Z
UID:6025-1579091400-1579098600@www.bramleywarmemorial.com
SUMMARY:Bramley Baptists War and Remembered Graves Clean Up
DESCRIPTION:Close up of the Grave Furniture designed\, produced and placed by Students at West Leeds Academy.
URL:https://www.bramleywarmemorial.com/event/bramley-baptists-war-and-remembered-graves-clean-up-2020-01-15/
LOCATION:Bramley Baptist Church Yard\, LS13 3RD
ORGANIZER;CN="John Barker":MAILTO:bramleywm@aol.com
END:VEVENT
BEGIN:VEVENT
DTSTART;TZID=Europe/London:20200105T123000
DTEND;TZID=Europe/London:20200105T150000
DTSTAMP:20260421T162917
CREATED:20180619T103951Z
LAST-MODIFIED:20180619T103951Z
UID:6137-1578227400-1578236400@www.bramleywarmemorial.com
SUMMARY:SSAFA Veterans and Families Sunday Lunch
DESCRIPTION:SSAFA Lunch Club
URL:https://www.bramleywarmemorial.com/event/ssafa-veterans-and-families-sunday-lunch-2020-01-05/
ATTACH;FMTTYPE=image/jpeg:https://www.bramleywarmemorial.com/wp-content/uploads/2018/06/SSAFA.jpg
END:VEVENT
BEGIN:VEVENT
DTSTART;TZID=Europe/London:20200101T123000
DTEND;TZID=Europe/London:20200101T143000
DTSTAMP:20260421T162917
CREATED:20160115T121656Z
LAST-MODIFIED:20180925T151306Z
UID:6024-1577881800-1577889000@www.bramleywarmemorial.com
SUMMARY:Bramley Baptists War and Remembered Graves Clean Up
DESCRIPTION:Close up of the Grave Furniture designed\, produced and placed by Students at West Leeds Academy.
URL:https://www.bramleywarmemorial.com/event/bramley-baptists-war-and-remembered-graves-clean-up-2020-01-01/
LOCATION:Bramley Baptist Church Yard\, LS13 3RD
ORGANIZER;CN="John Barker":MAILTO:bramleywm@aol.com
END:VEVENT
BEGIN:VEVENT
DTSTART;TZID=Europe/London:20191214T123000
DTEND;TZID=Europe/London:20191214T133000
DTSTAMP:20260421T162917
CREATED:20191114T204737Z
LAST-MODIFIED:20191204T093343Z
UID:6379-1576326600-1576330200@www.bramleywarmemorial.com
SUMMARY:Unveiling of Rodley War Memorial - Rodley Park
DESCRIPTION:
URL:https://www.bramleywarmemorial.com/event/unveiling-of-rodley-war-memorial/
LOCATION:Rodley Community Park\, Rodley Town Street\, Leeds\, LS13 1LQ
END:VEVENT
BEGIN:VEVENT
DTSTART;TZID=Europe/London:20191211T123000
DTEND;TZID=Europe/London:20191211T143000
DTSTAMP:20260421T162917
CREATED:20160115T121656Z
LAST-MODIFIED:20190110T164043Z
UID:6023-1576067400-1576074600@www.bramleywarmemorial.com
SUMMARY:Bramley Baptists War and Remembered Graves Clean Up
DESCRIPTION:Close up of the Grave Furniture designed\, produced and placed by Students at West Leeds Academy.
URL:https://www.bramleywarmemorial.com/event/bramley-baptists-war-and-remembered-graves-clean-up-2019-12-18/
LOCATION:Bramley Baptist Church Yard\, LS13 3RD
ORGANIZER;CN="John Barker":MAILTO:bramleywm@aol.com
END:VEVENT
BEGIN:VEVENT
DTSTART;TZID=Europe/London:20191201T123000
DTEND;TZID=Europe/London:20191201T150000
DTSTAMP:20260421T162917
CREATED:20180619T103951Z
LAST-MODIFIED:20180619T103951Z
UID:6136-1575203400-1575212400@www.bramleywarmemorial.com
SUMMARY:SSAFA Veterans and Families Sunday Lunch
DESCRIPTION:SSAFA Lunch Club
URL:https://www.bramleywarmemorial.com/event/ssafa-veterans-and-families-sunday-lunch-2019-12-01/
ATTACH;FMTTYPE=image/jpeg:https://www.bramleywarmemorial.com/wp-content/uploads/2018/06/SSAFA.jpg
END:VEVENT
BEGIN:VEVENT
DTSTART;TZID=Europe/London:20191127T123000
DTEND;TZID=Europe/London:20191127T143000
DTSTAMP:20260421T162917
CREATED:20160115T121656Z
LAST-MODIFIED:20190110T163949Z
UID:6022-1574857800-1574865000@www.bramleywarmemorial.com
SUMMARY:Bramley Baptists War and Remembered Graves Clean Up
DESCRIPTION:Close up of the Grave Furniture designed\, produced and placed by Students at West Leeds Academy.
URL:https://www.bramleywarmemorial.com/event/bramley-baptists-war-and-remembered-graves-clean-up-2019-12-04/
LOCATION:Bramley Baptist Church Yard\, LS13 3RD
ORGANIZER;CN="John Barker":MAILTO:bramleywm@aol.com
END:VEVENT
BEGIN:VEVENT
DTSTART;TZID=Europe/London:20191113T123000
DTEND;TZID=Europe/London:20191113T143000
DTSTAMP:20260421T162917
CREATED:20160115T121656Z
LAST-MODIFIED:20190110T163856Z
UID:6021-1573648200-1573655400@www.bramleywarmemorial.com
SUMMARY:Bramley Baptists War and Remembered Graves Clean Up
DESCRIPTION:Close up of the Grave Furniture designed\, produced and placed by Students at West Leeds Academy.
URL:https://www.bramleywarmemorial.com/event/bramley-baptists-war-and-remembered-graves-clean-up-2019-11-20/
LOCATION:Bramley Baptist Church Yard\, LS13 3RD
ORGANIZER;CN="John Barker":MAILTO:bramleywm@aol.com
END:VEVENT
BEGIN:VEVENT
DTSTART;TZID=Europe/London:20191111T104000
DTEND;TZID=Europe/London:20191111T111500
DTSTAMP:20260421T162917
CREATED:20190805T175824Z
LAST-MODIFIED:20191104T175727Z
UID:6347-1573468800-1573470900@www.bramleywarmemorial.com
SUMMARY:Armistice Day Service\, Monday 11th November
DESCRIPTION:This years Armistice Day Service will also include the dedication of nine new names added to the right hand wall plaque\, they are: \nClifford Strangeway 22 16/08/1917\nJohn Leslie Wilson 19 16/04/1918\nHerbert S. Butterworth 17 12/08/1915\nOscar B. Broadbent 24 04/10/1917\nFred Haigh DFM 24 22/04/1944\nAlan A. Horsfall 19 30/08/1940\nDavid T Horsfall 23 17/05/1943\nGeorge Steele 28 18/07/1944\nWilliam Panton DFC 27 03/05/1941 \nThese names will be added to the current plaque shown in the featured photo.
URL:https://www.bramleywarmemorial.com/event/armistice-day-service-monday-11th-november/
LOCATION:Bramley War Memorial\, LS13 3JZ
ATTACH;FMTTYPE=image/jpeg:https://www.bramleywarmemorial.com/wp-content/uploads/2018/05/IMG_8280-e1527707877803.jpg
END:VEVENT
BEGIN:VEVENT
DTSTART;TZID=Europe/London:20191110T103000
DTEND;TZID=Europe/London:20191110T113000
DTSTAMP:20260421T162917
CREATED:20190805T175149Z
LAST-MODIFIED:20191104T175052Z
UID:6346-1573381800-1573385400@www.bramleywarmemorial.com
SUMMARY:Remembrance Sunday 2019
DESCRIPTION:The sixth Remembrance Sunday service at Bramley War Memorial will be held on Sunday 10th November assembling at 10.30 am and commencing at 10.45 am. All Welcome. \n 
URL:https://www.bramleywarmemorial.com/event/remembrance-sunday-2019/
LOCATION:Bramley War Memorial\, LS13 3JZ
END:VEVENT
BEGIN:VEVENT
DTSTART;TZID=Europe/London:20191103T123000
DTEND;TZID=Europe/London:20191103T150000
DTSTAMP:20260421T162917
CREATED:20180619T103951Z
LAST-MODIFIED:20180619T103951Z
UID:6135-1572784200-1572793200@www.bramleywarmemorial.com
SUMMARY:SSAFA Veterans and Families Sunday Lunch
DESCRIPTION:SSAFA Lunch Club
URL:https://www.bramleywarmemorial.com/event/ssafa-veterans-and-families-sunday-lunch-2019-11-03/
ATTACH;FMTTYPE=image/jpeg:https://www.bramleywarmemorial.com/wp-content/uploads/2018/06/SSAFA.jpg
END:VEVENT
BEGIN:VEVENT
DTSTART;TZID=Europe/London:20191030T123000
DTEND;TZID=Europe/London:20191030T143000
DTSTAMP:20260421T162917
CREATED:20160115T121656Z
LAST-MODIFIED:20190110T163757Z
UID:6020-1572438600-1572445800@www.bramleywarmemorial.com
SUMMARY:Bramley Baptists War and Remembered Graves Clean Up
DESCRIPTION:Close up of the Grave Furniture designed\, produced and placed by Students at West Leeds Academy.
URL:https://www.bramleywarmemorial.com/event/bramley-baptists-war-and-remembered-graves-clean-up-2019-11-06/
LOCATION:Bramley Baptist Church Yard\, LS13 3RD
ORGANIZER;CN="John Barker":MAILTO:bramleywm@aol.com
END:VEVENT
END:VCALENDAR