BEGIN:VCALENDAR
VERSION:2.0
PRODID:-//Bramley War Memorial - ECPv6.14.2//NONSGML v1.0//EN
CALSCALE:GREGORIAN
METHOD:PUBLISH
X-WR-CALNAME:Bramley War Memorial
X-ORIGINAL-URL:https://www.bramleywarmemorial.com
X-WR-CALDESC:Events for Bramley War Memorial
REFRESH-INTERVAL;VALUE=DURATION:PT1H
X-Robots-Tag:noindex
X-PUBLISHED-TTL:PT1H
BEGIN:VTIMEZONE
TZID:Europe/London
BEGIN:DAYLIGHT
TZOFFSETFROM:+0000
TZOFFSETTO:+0100
TZNAME:BST
DTSTART:20150329T010000
END:DAYLIGHT
BEGIN:STANDARD
TZOFFSETFROM:+0100
TZOFFSETTO:+0000
TZNAME:GMT
DTSTART:20151025T010000
END:STANDARD
BEGIN:DAYLIGHT
TZOFFSETFROM:+0000
TZOFFSETTO:+0100
TZNAME:BST
DTSTART:20160327T010000
END:DAYLIGHT
BEGIN:STANDARD
TZOFFSETFROM:+0100
TZOFFSETTO:+0000
TZNAME:GMT
DTSTART:20161030T010000
END:STANDARD
END:VTIMEZONE
BEGIN:VEVENT
DTSTART;TZID=Europe/London:20160917T120000
DTEND;TZID=Europe/London:20160917T160000
DTSTAMP:20260422T103242
CREATED:20160829T110100Z
LAST-MODIFIED:20160829T110506Z
UID:5266-1474113600-1474128000@www.bramleywarmemorial.com
SUMMARY:Living Memory Project at Pudsey Cemetery
DESCRIPTION:We are pleased to support and promote this event on Saturday 17th September. \n  \n  \n 
URL:https://www.bramleywarmemorial.com/event/living-memory-project-at-pudsey-cemetery/
LOCATION:Pudsey Cemetery\, Cemetery Road\, Pudsey\, Leeds\, LS28 7LW\, United Kingdom
END:VEVENT
BEGIN:VEVENT
DTSTART;TZID=Europe/London:20160915T134500
DTEND;TZID=Europe/London:20160915T150000
DTSTAMP:20260422T103242
CREATED:20160123T143949Z
LAST-MODIFIED:20160829T111142Z
UID:1795-1473947100-1473951600@www.bramleywarmemorial.com
SUMMARY:Fred McNess VC - Centenary Commemorative Stone laying and Service
DESCRIPTION:This day marks the Centenary of Bramley man\, Fred McNess’s heroism  that saw  him awarded the Victoria Cross\, near Ginchy\, during the Battle of The Somme. \nThere is also a section of this web site containing full details of McNess’s life and service in the “In Remembrance” section. \nWe will be flying the Scots Guards Flag to commemorate Fred\, a Commemorative Stone will be unveiled during the Service\, which commences at 2.00 pm. \n  \nCigarette Card from the VC Winners Series
URL:https://www.bramleywarmemorial.com/event/fred-mcness-vc-won-100-years-ago-flag-flying-tbc/
LOCATION:Bramley War Memorial\, LS13 3JZ
ORGANIZER;CN="John Barker":MAILTO:bramleywm@aol.com
END:VEVENT
BEGIN:VEVENT
DTSTART;TZID=Europe/London:20160903T120000
DTEND;TZID=Europe/London:20160903T170000
DTSTAMP:20260422T103242
CREATED:20160829T105230Z
LAST-MODIFIED:20160829T105230Z
UID:5262-1472904000-1472922000@www.bramleywarmemorial.com
SUMMARY:Bramley History Society Photo Exhibition at The Old Unicorn
DESCRIPTION:Please find full details of the Bramley History Society Exhibition at The Old Unicorn on Saturday 3rd September. All BHS publications can also be bought from our “Shop” page. \n 
URL:https://www.bramleywarmemorial.com/event/bramley-history-society-photo-exhibition-at-the-old-unicorn/
LOCATION:The Old Unicorn\, 165 Lower Town Street\, Bramley\, Leeds\, LS13 3NA\, United Kingdom
END:VEVENT
BEGIN:VEVENT
DTSTART;VALUE=DATE:20160701
DTEND;VALUE=DATE:20160702
DTSTAMP:20260422T103242
CREATED:20160123T135446Z
LAST-MODIFIED:20160530T185831Z
UID:1792-1467331200-1467417599@www.bramleywarmemorial.com
SUMMARY:Centenary of First Day\, Battle of The Somme Bugler 7.30 am\, Service 10.45 am.
DESCRIPTION:The start of the Battle of The Somme is a national Remembrance event\, this will be Remembered at Bramley War Memorial by the following two events: \n7.30 am – Bugler will mark the time that our troops left the trenches – this is a national remembrance with ourselves representing West Leeds. \n10.45 am – Service with Reverend Paul Crabb. \n  \nFallen in the Battle of the Somme\, July to November 1916. \n\n\n\nAbbott\nHarry\n\n26\n17/08/1916\n\n\nAckroyd\nErnest\n\n31\n08/07/1916\n\n\nAllum\nWilliam Hylbert\n\n18\n01/07/1916\n\n\nAtkinson\nHenry\n\n27\n01/07/1916\n\n\nBackhouse\nHorace\n\n22\n28/09/1916\n\n\nBailey\nArthur Greenwood\n\n24\n03/09/1916\n\n\nBarran\nMorris\n\n26\n01/07/1916\n\n\nBarsby\nHenry\n\n19\n01/07/1916\n\n\nBolton\nEdward\n\n20\n26/09/1916\n\n\nBuckle\nAlbert\n\n20\n08/07/1916\n\n\nBullen\nJohn Robert\n\n32\n07/12/1916\n\n\nBullough\nMaurice Gledhill\n\n22\n16/09/1916\n\n\nButler\nArthur\nDCM\n31\n06/10/1916\n\n\nCantral\nEdward\n\n23\n03/09/1916\n\n\nCarter\nJames\n\n22\n10/07/1916\n\n\nChapman\nHerbert D.\n\n36\n01/07/1916\n\n\nClayton\nGeorge Willie\n\n28\n03/11/1916\n\n\nConyers\nWilliam\n\n28\n01/07/1916\n\n\nCook\nWillie\n\n24\n01/07/1916\n\n\nCraven\nErnest\n\n32\n27/10/1916\n\n\nDockray\nHarold\n\n20\n16/11/1916\n\n\nDurham\nGeorge Henry\n\n27\n04/10/1916\n\n\nElliott\nEdwin\n\n28\n19/11/1916\n\n\nFearn\nWalter\n\n38\n01/07/1916\n\n\nFox\nDick\n\n21\n24/08/1916\n\n\nGoodson\nWilliam Ernest\n\n35\n21/07/1916\n\n\nGrainger\nGeorge\n\n21\n17/08/1916\n\n\nGreenwood\nArnold\n\n\n01/07/1916\n\n\nHaley\nJohn\n\n24\n01/07/1916\n\n\nHargrave\nHubert\n\n20\n03/09/1916\n\n\nHolgate\nJohn Dixon\n\n33\n03/09/1916\n\n\nHorn\nFred William\n\n21\n14/09/1916\n\n\nHughes\nAlfred\n\n28\n31/08/1916\n\n\nJackson\nGeorge Edward\n\n20\n07/08/1916\n\n\nJohnson\nJohn Henry\n\n21\n26/09/1916\n\n\nJones\nErnest\n\n23\n12/08/1916\n\n\nJones\nRobert Haywood\n\n34\n18/11/1916\n\n\nKemp\nRobert\n\n20\n16/09/1916\n\n\nKirk\nLawrence Hector\nMM\n31\n21/07/1916\n\n\nLeaf\nChristopher\n\n24\n14/07/1916\n\n\nMarriner\nLeonard\n\n28\n27/09/1916\n\n\nMay\nClement\n\n21\n13/11/1916\n\n\nMellor\nEdgar Mercer\n\n20\n09/09/1916\n\n\nMitchell\nHerbert\n\n21\n01/07/1916\n\n\nMoorby\nJames Lambert\n\n24\n01/07/1916\n\n\nMoorby\nJohn Wilkinson\n\n35\n03/09/1916\n\n\nMossop\nMatthew Hudson\nMM\n26\n01/07/1916\n\n\nMusgrave\nJoe\n\n23\n01/07/1916\n\n\nNaylor\nFrank\n\n21\n01/07/1916\n\n\nPankhurst\nHorace\n\n31\n16/07/1916\n\n\nParkin\nFred\n\n26\n17/09/1916\n\n\nPaul\nThomas\n\n17\n22/09/1916\n\n\nPemberton\nGeorge  William\nMM\n36\n13/08/1916\n\n\nProctor\nRalph Victor\n\n20\n01/07/1916\n\n\nSanders\nJohn\n\n28\n30/07/1916\n\n\nScawbord\nTom\n\n28\n01/07/1916\n\n\nSettle\nWillie\n\n22\n02/07/1916\n\n\nSlater\nHarold\n\n27\n26/08/1916\n\n\nSpence\nArthur\n\n21\n01/07/1916\n\n\nSpencer\nJoseph Robson\n\n23\n31/07/1916\n\n\nStagles\nArthur\n\n26\n04/09/1916\n\n\nStandish\nCharles Arthur\n\n27\n16/09/1916\n\n\nThompson\nArthur Norman\n\n20\n01/07/1916\n\n\nThrippleton\nAustin\n\n19\n01/07/1916\n\n\nTomlin\nEdgar Hewitt\n\n38\n23/09/1916\n\n\nTurner\nHerbert\n\n28\n23/07/1916\n\n\nWaddington\nHerbert\n\n35\n01/07/1916\n\n\nWainwright\nWillie\n\n23\n03/07/1916\n\n\nWalker\nWilliam\n\nNULL\n01/07/1916\n\n\nWalker\nArthur\n\n21\n01/07/1916\n\n\nWaring\nHorace\n\n22\n01/07/1916\n\n\nWaterhouse\nThomas\n\n24\n02/12/1916\n\n\nWaters\nWillie\n\n32\n01/07/1916\n\n\nWentworth\nFrank\n\n28\n05/11/1916\n\n\nWharton\nPercy\n\n20\n01/07/1916\n\n\nWood\nFrederick\n\n24\n10/07/1916\n\n\nWood\nAlexander\n\n37\n19/07/1916\n\n\n\n  \n  \n \nLance Corporal Ralph Victor Proctor. \n  \n  \n  \n  \n  \n  \n  \n  \n  \n  \n  \n  \n  \n  \n  \n  \n  \n  \n  \n  \n  \n 
URL:https://www.bramleywarmemorial.com/event/centenary-of-first-day-battle-of-the-somme-details-tbc/
LOCATION:Bramley War Memorial\, LS13 3JZ
ORGANIZER;CN="John Barker":MAILTO:bramleywm@aol.com
END:VEVENT
BEGIN:VEVENT
DTSTART;VALUE=DATE:20160625
DTEND;VALUE=DATE:20160626
DTSTAMP:20260422T103242
CREATED:20160115T114650Z
LAST-MODIFIED:20160115T114650Z
UID:1723-1466812800-1466899199@www.bramleywarmemorial.com
SUMMARY:Armed Forces Day 2016\, Our Union Flag will be flown at Bramley War Memorial
DESCRIPTION:  \nCheque for £351.90 was raised by The Barley Mow for Bramley War Memorial on Armed Forces Weekend 2015.
URL:https://www.bramleywarmemorial.com/event/armed-forces-day-2016-our-union-flag-will-be-flown-at-bramley-war-memorial/
LOCATION:Bramley War Memorial\, LS13 3JZ
END:VEVENT
BEGIN:VEVENT
DTSTART;VALUE=DATE:20160531
DTEND;VALUE=DATE:20160601
DTSTAMP:20260422T103242
CREATED:20160123T124741Z
LAST-MODIFIED:20160123T124810Z
UID:1790-1464652800-1464739199@www.bramleywarmemorial.com
SUMMARY:Centenary of Battle of Jutland - Flag Flying
DESCRIPTION:May 31st is the Centenary of the Battle of Jutland – 6094 British Killed – 14 British and 11 German Ships were sunk \nOn HMS Invincible 1026 died including our two local men\, 6 survived. \n  \nLeading Stoker  Sam Coulson Duce aged 26 31/05/1916 died Jutland \nLeading Stoker  Royal Navy “HMS Invincible” \n157 Stanningley Road\, Bramley According to Probate Records \nRemembered: \nLiberal Club\, Bramley just inside front door \nPortsmouth Naval Memorial\, Portsmouth\, Hampshire Panel 16 \nSalem Baptist Window \n  \nPrivate Arthur   Durham aged 19 31/05/1916 died Jutland \nPrivate H.M.S. “Invincible.” Royal Marine Light Infantry 31/05/1916 \nSon of John and Mary Durham\, of 13\, Aston Street.\, Bramley\, Leeds. \nRemembered: \nPortsmouth Naval Memorial\, Portsmouth\, Hampshire Panel 22 \n  \nSam Duce remembered on the long lost Westover Road Chapel Stained Glass Window
URL:https://www.bramleywarmemorial.com/event/centenary-of-battle-of-jutland-flag-flying/
END:VEVENT
BEGIN:VEVENT
DTSTART;TZID=Europe/London:20160524T080000
DTEND;TZID=Europe/London:20160524T170000
DTSTAMP:20260422T103242
CREATED:20160328T144931Z
LAST-MODIFIED:20160328T145107Z
UID:4681-1464076800-1464109200@www.bramleywarmemorial.com
SUMMARY:75th Anniversary of loss of HMS Hood - Flag Flying
DESCRIPTION:
URL:https://www.bramleywarmemorial.com/event/75th-anniversary-of-loss-of-hms-hood-flag-flying/
LOCATION:Bramley War Memorial\, LS13 3JZ
END:VEVENT
BEGIN:VEVENT
DTSTART;TZID=Europe/London:20160218T100000
DTEND;TZID=Europe/London:20160218T114500
DTSTAMP:20260422T103242
CREATED:20160215T111454Z
LAST-MODIFIED:20160215T111454Z
UID:2701-1455789600-1455795900@www.bramleywarmemorial.com
SUMMARY:Bramley History Society
DESCRIPTION:Our Secretary is the guest Speaker at this Thursday’s meeting covering both the Memorial and the War and Remembered Graves Project.
URL:https://www.bramleywarmemorial.com/event/bramley-history-society/
LOCATION:Bramley Community Centre\, Waterloo Lane\, Bramley\, Leeds\, LS13 2JB\, United Kingdom
END:VEVENT
BEGIN:VEVENT
DTSTART;TZID=Europe/London:20160121T094500
DTEND;TZID=Europe/London:20160121T120000
DTSTAMP:20260422T103242
CREATED:20160112T145649Z
LAST-MODIFIED:20160112T145649Z
UID:1699-1453369500-1453377600@www.bramleywarmemorial.com
SUMMARY:Bramley History Society Next Meeting
DESCRIPTION:21st January Meeting is John Gilleghan speaking on “Leeds Local History” and also Library Day.
URL:https://www.bramleywarmemorial.com/event/bramley-history-society-next-meeting/
LOCATION:Bramley Community Centre\, Waterloo Lane\, Bramley\, Leeds\, LS13 2JB\, United Kingdom
END:VEVENT
BEGIN:VEVENT
DTSTART;TZID=Europe/London:20160113T123000
DTEND;TZID=Europe/London:20160113T143000
DTSTAMP:20260422T103242
CREATED:20160111T150335Z
LAST-MODIFIED:20160111T150335Z
UID:1681-1452688200-1452695400@www.bramleywarmemorial.com
SUMMARY:Bramley Baptists War and Remembered Graves Cleanup - All Welcome
DESCRIPTION:
URL:https://www.bramleywarmemorial.com/event/bramley-baptists-war-and-remembered-graves-cleanup-all-welcome/
LOCATION:Bramley Baptist Church Yard\, LS13 3RD
END:VEVENT
BEGIN:VEVENT
DTSTART;TZID=Europe/London:20160106T123000
DTEND;TZID=Europe/London:20160106T143000
DTSTAMP:20260422T103242
CREATED:20160104T134118Z
LAST-MODIFIED:20160104T134118Z
UID:1660-1452083400-1452090600@www.bramleywarmemorial.com
SUMMARY:Bramley Baptists War and Remembered Graves Cleanup
DESCRIPTION:Subject to weather\, the next cleanup is Wednesday\, 6th January\, meeting at 12.30 pm.
URL:https://www.bramleywarmemorial.com/event/bramley-baptists-war-and-remembered-graves-cleanup-2/
LOCATION:Bramley Baptist Church Yard\, LS13 3RD
ATTACH;FMTTYPE=image/jpeg:https://www.bramleywarmemorial.com/wp-content/uploads/2015/12/P1100510.jpg
END:VEVENT
BEGIN:VEVENT
DTSTART;TZID=Europe/London:20151230T123000
DTEND;TZID=Europe/London:20151230T140000
DTSTAMP:20260422T103242
CREATED:20151219T163218Z
LAST-MODIFIED:20151219T163218Z
UID:1656-1451478600-1451484000@www.bramleywarmemorial.com
SUMMARY:Bramley Baptists War and Remembered Graves Cleanup
DESCRIPTION:There will be an “end of year” cleanup on Wednesday 30th December\, meeting at 12.30 pm – all welcome. We will post a reminder nearer the date (this is also a test of our forthcoming Web Site). \n  \n. 
URL:https://www.bramleywarmemorial.com/event/bramley-baptists-war-and-remembered-graves-cleanup/
LOCATION:Bramley Baptist Church Yard\, LS13 3RD
END:VEVENT
BEGIN:VEVENT
DTSTART;TZID=Europe/London:20151202T123000
DTEND;TZID=Europe/London:20151202T150000
DTSTAMP:20260422T103242
CREATED:20151127T114945Z
LAST-MODIFIED:20151127T115525Z
UID:1625-1449059400-1449068400@www.bramleywarmemorial.com
SUMMARY:War Graves Clean Up
DESCRIPTION:
URL:https://www.bramleywarmemorial.com/event/war-graves-clean-up/
LOCATION:Bramley Baptist Church Yard\, LS13 3RD
ORGANIZER;CN="John Barker":MAILTO:bramleywm@aol.com
END:VEVENT
BEGIN:VEVENT
DTSTART;TZID=Europe/London:20151108T110000
DTEND;TZID=Europe/London:20151108T140000
DTSTAMP:20260422T103242
CREATED:20150928T145440Z
LAST-MODIFIED:20150928T145440Z
UID:1467-1446980400-1446991200@www.bramleywarmemorial.com
SUMMARY:Remembrance Sunday
DESCRIPTION:Oratori senesceret adlaudabilis chirographi. Pretosius concubine conubium santet ossifragi\, ut tremulus apparatus bellis praemuniet catelli. Satis utilitas rures divinus corrumperet Caesar\, etiam cathedras miscere syrtes. Cathedras praemuniet bellus catelli\, et vix adfabilis cathedras iocari quadrupei\, etiam aegre utilitas oratori satis celeriter praemuniet vix fragilis ossifragi. Satis adfabilis oratori iocari syrtes\, iam rures senesceret perspicax fiducias\, utcunque verecundus saburre deciperet quinquennalis zothecas\, ut incredibiliter utilitas concubine suffragarit chirographi. Aegre verecundus catelli senesceret cathedras\, etiam Aquae Sulis praemuniet catelli. Gulosus agricolae amputat utilitas apparatus bellis. Augustus incredibiliter verecunde suffragarit umbraculi\, quod parsimonia saburre fermentet Medusa.
URL:https://www.bramleywarmemorial.com/event/remembrance-sunday/
LOCATION:Bramley War Memorial\, LS13 3JZ
CATEGORIES:Special Events
ORGANIZER;CN="John Barker":MAILTO:bramleywm@aol.com
END:VEVENT
END:VCALENDAR