BEGIN:VCALENDAR
VERSION:2.0
PRODID:-//Bramley War Memorial - ECPv6.14.2//NONSGML v1.0//EN
CALSCALE:GREGORIAN
METHOD:PUBLISH
X-ORIGINAL-URL:https://www.bramleywarmemorial.com
X-WR-CALDESC:Events for Bramley War Memorial
REFRESH-INTERVAL;VALUE=DURATION:PT1H
X-Robots-Tag:noindex
X-PUBLISHED-TTL:PT1H
BEGIN:VTIMEZONE
TZID:Europe/London
BEGIN:DAYLIGHT
TZOFFSETFROM:+0000
TZOFFSETTO:+0100
TZNAME:BST
DTSTART:20200329T010000
END:DAYLIGHT
BEGIN:STANDARD
TZOFFSETFROM:+0100
TZOFFSETTO:+0000
TZNAME:GMT
DTSTART:20201025T010000
END:STANDARD
BEGIN:DAYLIGHT
TZOFFSETFROM:+0000
TZOFFSETTO:+0100
TZNAME:BST
DTSTART:20210328T010000
END:DAYLIGHT
BEGIN:STANDARD
TZOFFSETFROM:+0100
TZOFFSETTO:+0000
TZNAME:GMT
DTSTART:20211031T010000
END:STANDARD
BEGIN:DAYLIGHT
TZOFFSETFROM:+0000
TZOFFSETTO:+0100
TZNAME:BST
DTSTART:20220327T010000
END:DAYLIGHT
BEGIN:STANDARD
TZOFFSETFROM:+0100
TZOFFSETTO:+0000
TZNAME:GMT
DTSTART:20221030T010000
END:STANDARD
BEGIN:DAYLIGHT
TZOFFSETFROM:+0000
TZOFFSETTO:+0100
TZNAME:BST
DTSTART:20230326T010000
END:DAYLIGHT
BEGIN:STANDARD
TZOFFSETFROM:+0100
TZOFFSETTO:+0000
TZNAME:GMT
DTSTART:20231029T010000
END:STANDARD
BEGIN:DAYLIGHT
TZOFFSETFROM:+0000
TZOFFSETTO:+0100
TZNAME:BST
DTSTART:20240331T010000
END:DAYLIGHT
BEGIN:STANDARD
TZOFFSETFROM:+0100
TZOFFSETTO:+0000
TZNAME:GMT
DTSTART:20241027T010000
END:STANDARD
BEGIN:DAYLIGHT
TZOFFSETFROM:+0000
TZOFFSETTO:+0100
TZNAME:BST
DTSTART:20250330T010000
END:DAYLIGHT
BEGIN:STANDARD
TZOFFSETFROM:+0100
TZOFFSETTO:+0000
TZNAME:GMT
DTSTART:20251026T010000
END:STANDARD
END:VTIMEZONE
BEGIN:VEVENT
DTSTART;TZID=Europe/London:20250815T114000
DTEND;TZID=Europe/London:20250815T123000
DTSTAMP:20260421T125348
CREATED:20250801T142917Z
LAST-MODIFIED:20250801T150108Z
UID:6689-1755258000-1755261000@www.bramleywarmemorial.com
SUMMARY:VJ DAY 2025
DESCRIPTION:Act of RemembranceEighty years ago\, on 15th. August 1945\, all hostilities of the Second World War were brought to an end by the surrender of Emperor Hirohito of Japan.  At the Bramley War Memorial we will remember and honour the many\, often overlooked soldiers from England\, its Commonwealth and Empire who fought bravely for justice in the Far East. Although few of the survivers may still be alive to join us on the day\, Bramley will remember what was done by them and those who did not return to make the world a better place for those of us living today. \nOur Act of Remembrance will include an act of silence\, prayers for Peace for all who wish to join in and the speech\, given by His Majesty King George VI to the Nation and Commonwealth on VJ 1945 will be read. \nThe event will begin around 11.40 am leading to a period of silence at 12.00 noon to match the national Act of Remembrance and end with an act of commitment to Peace. \nAll are welcome to come along on the day.
URL:https://www.bramleywarmemorial.com/event/vj-day-2025-at-11-40/
LOCATION:Bramley War Memorial\, LS13 3JZ
END:VEVENT
BEGIN:VEVENT
DTSTART;TZID=Europe/London:20250815T114000
DTEND;TZID=Europe/London:20250815T123000
DTSTAMP:20260421T125348
CREATED:20250617T135508Z
LAST-MODIFIED:20250730T131051Z
UID:6649-1755258000-1755261000@www.bramleywarmemorial.com
SUMMARY:80th. Commemoration of VJ Day August 2025 beginning at 11.40 am
DESCRIPTION:Eighty years ago\, on 15th. August 1945\, all hostilities of the Second World War were brought to an end by the surrender of Emperor Hirohito of Japan.  At the Bramley War Memorial we will remember and honour the many\, often overlooked soldiers from England\, its Commonwealth and Empire who fought bravely for justice in the Far East. Although few of the survivers may still be alive to join us on the day\, Bramley will remember what was done by them and those who did not return to make the world a better place for those of us living today. \nOur remembrance for all those who suffered and died in the Far East Campaign during the Second World War will include an act of silence\, prayers for Peace for all who wish to join in and the speech\, given by His Majesty King George VI to the Nation and Commonwealth on VJ 1945 will be read. \nThe event will begin around 11.40 am leading to a period of silence at 12.00 noon to match the national Act of Remembrance and end with an act of commitment to Peace. \nAll are welcome to come along on the day.
URL:https://www.bramleywarmemorial.com/event/80th-commemoration-of-vj-day-august-2025/
LOCATION:Bramley War Memorial\, LS13 3JZ
END:VEVENT
BEGIN:VEVENT
DTSTART;TZID=Europe/London:20250508T104000
DTEND;TZID=Europe/London:20250508T120000
DTSTAMP:20260421T125348
CREATED:20250414T201131Z
LAST-MODIFIED:20250729T135428Z
UID:6621-1746700800-1746705600@www.bramleywarmemorial.com
SUMMARY:Eightieth Anniversary of V.E. Day on 8th. May 2025 from 10.40 am
DESCRIPTION:On Thursday 8th. May\, there will be a service of Thanksgiving and Remembrance at Bramley War Memorial to commemorate the 80th. anniversary of Victory in Europe Day. The event will start at 10.40am. \nThe speech given by King George VI on VE Day in 1945 will be read. Wreaths will be laid as we remember especially over 200 service personnel from our local communities who gave their lives in service to their country during World WArd Two. \nIf you have any memories of VE Day in 1945\, we’d love to hear them and you can share them with us at the event. \nPLEASE DO COME AND JOIN US ON MAY 8TH.
URL:https://www.bramleywarmemorial.com/event/eightieth-anniversary-of-v-e-day/
LOCATION:Bramley War Memorial\, LS13 3JZ
END:VEVENT
BEGIN:VEVENT
DTSTART;TZID=Europe/London:20201206T123000
DTEND;TZID=Europe/London:20201206T150000
DTSTAMP:20260421T125348
CREATED:20180619T103914Z
LAST-MODIFIED:20180619T103914Z
UID:6286-1607257800-1607266800@www.bramleywarmemorial.com
SUMMARY:SSAFA Veterans and Families Sunday Lunch
DESCRIPTION:SSAFA Lunch Club
URL:https://www.bramleywarmemorial.com/event/ssafa-veterans-and-families-sunday-lunch-2020-12-06/
ATTACH;FMTTYPE=image/jpeg:https://www.bramleywarmemorial.com/wp-content/uploads/2018/06/SSAFA.jpg
END:VEVENT
BEGIN:VEVENT
DTSTART;TZID=Europe/London:20201202T123000
DTEND;TZID=Europe/London:20201202T143000
DTSTAMP:20260421T125348
CREATED:20160115T121656Z
LAST-MODIFIED:20160115T121656Z
UID:6281-1606912200-1606919400@www.bramleywarmemorial.com
SUMMARY:Bramley Baptists War and Remembered Graves Clean Up
DESCRIPTION:Close up of the Grave Furniture designed\, produced and placed by Students at West Leeds Academy.
URL:https://www.bramleywarmemorial.com/event/bramley-baptists-war-and-remembered-graves-clean-up-2020-12-02/
LOCATION:Bramley Baptist Church Yard\, LS13 3RD
ORGANIZER;CN="John Barker":MAILTO:bramleywm@aol.com
END:VEVENT
BEGIN:VEVENT
DTSTART;TZID=Europe/London:20201118T123000
DTEND;TZID=Europe/London:20201118T143000
DTSTAMP:20260421T125348
CREATED:20160115T121656Z
LAST-MODIFIED:20160115T121656Z
UID:6273-1605702600-1605709800@www.bramleywarmemorial.com
SUMMARY:Bramley Baptists War and Remembered Graves Clean Up
DESCRIPTION:Close up of the Grave Furniture designed\, produced and placed by Students at West Leeds Academy.
URL:https://www.bramleywarmemorial.com/event/bramley-baptists-war-and-remembered-graves-clean-up-2020-11-18/
LOCATION:Bramley Baptist Church Yard\, LS13 3RD
ORGANIZER;CN="John Barker":MAILTO:bramleywm@aol.com
END:VEVENT
BEGIN:VEVENT
DTSTART;TZID=Europe/London:20201104T123000
DTEND;TZID=Europe/London:20201104T143000
DTSTAMP:20260421T125348
CREATED:20160115T121656Z
LAST-MODIFIED:20160115T121656Z
UID:6267-1604493000-1604500200@www.bramleywarmemorial.com
SUMMARY:Bramley Baptists War and Remembered Graves Clean Up
DESCRIPTION:Close up of the Grave Furniture designed\, produced and placed by Students at West Leeds Academy.
URL:https://www.bramleywarmemorial.com/event/bramley-baptists-war-and-remembered-graves-clean-up-2020-11-04/
LOCATION:Bramley Baptist Church Yard\, LS13 3RD
ORGANIZER;CN="John Barker":MAILTO:bramleywm@aol.com
END:VEVENT
BEGIN:VEVENT
DTSTART;TZID=Europe/London:20201101T123000
DTEND;TZID=Europe/London:20201101T150000
DTSTAMP:20260421T125348
CREATED:20180619T103914Z
LAST-MODIFIED:20180619T103914Z
UID:6266-1604233800-1604242800@www.bramleywarmemorial.com
SUMMARY:SSAFA Veterans and Families Sunday Lunch
DESCRIPTION:SSAFA Lunch Club
URL:https://www.bramleywarmemorial.com/event/ssafa-veterans-and-families-sunday-lunch-2020-11-01/
ATTACH;FMTTYPE=image/jpeg:https://www.bramleywarmemorial.com/wp-content/uploads/2018/06/SSAFA.jpg
END:VEVENT
BEGIN:VEVENT
DTSTART;TZID=Europe/London:20201021T123000
DTEND;TZID=Europe/London:20201021T143000
DTSTAMP:20260421T125348
CREATED:20160115T121656Z
LAST-MODIFIED:20160115T121656Z
UID:6259-1603283400-1603290600@www.bramleywarmemorial.com
SUMMARY:Bramley Baptists War and Remembered Graves Clean Up
DESCRIPTION:Close up of the Grave Furniture designed\, produced and placed by Students at West Leeds Academy.
URL:https://www.bramleywarmemorial.com/event/bramley-baptists-war-and-remembered-graves-clean-up-2020-10-21/
LOCATION:Bramley Baptist Church Yard\, LS13 3RD
ORGANIZER;CN="John Barker":MAILTO:bramleywm@aol.com
END:VEVENT
BEGIN:VEVENT
DTSTART;TZID=Europe/London:20201007T123000
DTEND;TZID=Europe/London:20201007T143000
DTSTAMP:20260421T125348
CREATED:20160115T121656Z
LAST-MODIFIED:20160115T121656Z
UID:6242-1602073800-1602081000@www.bramleywarmemorial.com
SUMMARY:Bramley Baptists War and Remembered Graves Clean Up
DESCRIPTION:Close up of the Grave Furniture designed\, produced and placed by Students at West Leeds Academy.
URL:https://www.bramleywarmemorial.com/event/bramley-baptists-war-and-remembered-graves-clean-up-2020-10-07/
LOCATION:Bramley Baptist Church Yard\, LS13 3RD
ORGANIZER;CN="John Barker":MAILTO:bramleywm@aol.com
END:VEVENT
BEGIN:VEVENT
DTSTART;TZID=Europe/London:20201004T123000
DTEND;TZID=Europe/London:20201004T150000
DTSTAMP:20260421T125348
CREATED:20180619T103914Z
LAST-MODIFIED:20180619T103914Z
UID:6241-1601814600-1601823600@www.bramleywarmemorial.com
SUMMARY:SSAFA Veterans and Families Sunday Lunch
DESCRIPTION:SSAFA Lunch Club
URL:https://www.bramleywarmemorial.com/event/ssafa-veterans-and-families-sunday-lunch-2020-10-04/
ATTACH;FMTTYPE=image/jpeg:https://www.bramleywarmemorial.com/wp-content/uploads/2018/06/SSAFA.jpg
END:VEVENT
BEGIN:VEVENT
DTSTART;TZID=Europe/London:20200923T123000
DTEND;TZID=Europe/London:20200923T143000
DTSTAMP:20260421T125348
CREATED:20160115T121656Z
LAST-MODIFIED:20180925T151340Z
UID:6218-1600864200-1600871400@www.bramleywarmemorial.com
SUMMARY:Bramley Baptists War and Remembered Graves Clean Up
DESCRIPTION:Close up of the Grave Furniture designed\, produced and placed by Students at West Leeds Academy.
URL:https://www.bramleywarmemorial.com/event/bramley-baptists-war-and-remembered-graves-clean-up-2020-09-23/
LOCATION:Bramley Baptist Church Yard\, LS13 3RD
ORGANIZER;CN="John Barker":MAILTO:bramleywm@aol.com
END:VEVENT
BEGIN:VEVENT
DTSTART;TZID=Europe/London:20200909T123000
DTEND;TZID=Europe/London:20200909T143000
DTSTAMP:20260421T125348
CREATED:20160115T121656Z
LAST-MODIFIED:20180925T151340Z
UID:6207-1599654600-1599661800@www.bramleywarmemorial.com
SUMMARY:Bramley Baptists War and Remembered Graves Clean Up
DESCRIPTION:Close up of the Grave Furniture designed\, produced and placed by Students at West Leeds Academy.
URL:https://www.bramleywarmemorial.com/event/bramley-baptists-war-and-remembered-graves-clean-up-2020-09-09/
LOCATION:Bramley Baptist Church Yard\, LS13 3RD
ORGANIZER;CN="John Barker":MAILTO:bramleywm@aol.com
END:VEVENT
BEGIN:VEVENT
DTSTART;TZID=Europe/London:20200906T123000
DTEND;TZID=Europe/London:20200906T150000
DTSTAMP:20260421T125348
CREATED:20180619T103914Z
LAST-MODIFIED:20180619T103914Z
UID:6197-1599395400-1599404400@www.bramleywarmemorial.com
SUMMARY:SSAFA Veterans and Families Sunday Lunch
DESCRIPTION:SSAFA Lunch Club
URL:https://www.bramleywarmemorial.com/event/ssafa-veterans-and-families-sunday-lunch-2020-09-06/
ATTACH;FMTTYPE=image/jpeg:https://www.bramleywarmemorial.com/wp-content/uploads/2018/06/SSAFA.jpg
END:VEVENT
BEGIN:VEVENT
DTSTART;TZID=Europe/London:20200826T123000
DTEND;TZID=Europe/London:20200826T143000
DTSTAMP:20260421T125348
CREATED:20160115T121656Z
LAST-MODIFIED:20180925T151340Z
UID:6183-1598445000-1598452200@www.bramleywarmemorial.com
SUMMARY:Bramley Baptists War and Remembered Graves Clean Up
DESCRIPTION:Close up of the Grave Furniture designed\, produced and placed by Students at West Leeds Academy.
URL:https://www.bramleywarmemorial.com/event/bramley-baptists-war-and-remembered-graves-clean-up-2020-08-26/
LOCATION:Bramley Baptist Church Yard\, LS13 3RD
ORGANIZER;CN="John Barker":MAILTO:bramleywm@aol.com
END:VEVENT
BEGIN:VEVENT
DTSTART;TZID=Europe/London:20200812T123000
DTEND;TZID=Europe/London:20200812T143000
DTSTAMP:20260421T125348
CREATED:20160115T121656Z
LAST-MODIFIED:20180925T151324Z
UID:6179-1597235400-1597242600@www.bramleywarmemorial.com
SUMMARY:Bramley Baptists War and Remembered Graves Clean Up
DESCRIPTION:Close up of the Grave Furniture designed\, produced and placed by Students at West Leeds Academy.
URL:https://www.bramleywarmemorial.com/event/bramley-baptists-war-and-remembered-graves-clean-up-2020-08-12/
LOCATION:Bramley Baptist Church Yard\, LS13 3RD
ORGANIZER;CN="John Barker":MAILTO:bramleywm@aol.com
END:VEVENT
BEGIN:VEVENT
DTSTART;TZID=Europe/London:20200802T123000
DTEND;TZID=Europe/London:20200802T150000
DTSTAMP:20260421T125348
CREATED:20180619T103914Z
LAST-MODIFIED:20180619T103914Z
UID:6154-1596371400-1596380400@www.bramleywarmemorial.com
SUMMARY:SSAFA Veterans and Families Sunday Lunch
DESCRIPTION:SSAFA Lunch Club
URL:https://www.bramleywarmemorial.com/event/ssafa-veterans-and-families-sunday-lunch-2020-08-02/
ATTACH;FMTTYPE=image/jpeg:https://www.bramleywarmemorial.com/wp-content/uploads/2018/06/SSAFA.jpg
END:VEVENT
BEGIN:VEVENT
DTSTART;TZID=Europe/London:20200729T123000
DTEND;TZID=Europe/London:20200729T143000
DTSTAMP:20260421T125348
CREATED:20160115T121656Z
LAST-MODIFIED:20180925T151324Z
UID:6153-1596025800-1596033000@www.bramleywarmemorial.com
SUMMARY:Bramley Baptists War and Remembered Graves Clean Up
DESCRIPTION:Close up of the Grave Furniture designed\, produced and placed by Students at West Leeds Academy.
URL:https://www.bramleywarmemorial.com/event/bramley-baptists-war-and-remembered-graves-clean-up-2020-07-29/
LOCATION:Bramley Baptist Church Yard\, LS13 3RD
ORGANIZER;CN="John Barker":MAILTO:bramleywm@aol.com
END:VEVENT
BEGIN:VEVENT
DTSTART;TZID=Europe/London:20200715T123000
DTEND;TZID=Europe/London:20200715T143000
DTSTAMP:20260421T125348
CREATED:20160115T121656Z
LAST-MODIFIED:20180925T151324Z
UID:6152-1594816200-1594823400@www.bramleywarmemorial.com
SUMMARY:Bramley Baptists War and Remembered Graves Clean Up
DESCRIPTION:Close up of the Grave Furniture designed\, produced and placed by Students at West Leeds Academy.
URL:https://www.bramleywarmemorial.com/event/bramley-baptists-war-and-remembered-graves-clean-up-2020-07-15/
LOCATION:Bramley Baptist Church Yard\, LS13 3RD
ORGANIZER;CN="John Barker":MAILTO:bramleywm@aol.com
END:VEVENT
BEGIN:VEVENT
DTSTART;TZID=Europe/London:20200705T123000
DTEND;TZID=Europe/London:20200705T150000
DTSTAMP:20260421T125348
CREATED:20180619T103914Z
LAST-MODIFIED:20180619T103914Z
UID:6144-1593952200-1593961200@www.bramleywarmemorial.com
SUMMARY:SSAFA Veterans and Families Sunday Lunch
DESCRIPTION:SSAFA Lunch Club
URL:https://www.bramleywarmemorial.com/event/ssafa-veterans-and-families-sunday-lunch-2020-07-05/
ATTACH;FMTTYPE=image/jpeg:https://www.bramleywarmemorial.com/wp-content/uploads/2018/06/SSAFA.jpg
END:VEVENT
BEGIN:VEVENT
DTSTART;TZID=Europe/London:20200701T123000
DTEND;TZID=Europe/London:20200701T143000
DTSTAMP:20260421T125348
CREATED:20160115T121656Z
LAST-MODIFIED:20180925T151323Z
UID:6143-1593606600-1593613800@www.bramleywarmemorial.com
SUMMARY:Bramley Baptists War and Remembered Graves Clean Up
DESCRIPTION:Close up of the Grave Furniture designed\, produced and placed by Students at West Leeds Academy.
URL:https://www.bramleywarmemorial.com/event/bramley-baptists-war-and-remembered-graves-clean-up-2020-07-01/
LOCATION:Bramley Baptist Church Yard\, LS13 3RD
ORGANIZER;CN="John Barker":MAILTO:bramleywm@aol.com
END:VEVENT
BEGIN:VEVENT
DTSTART;TZID=Europe/London:20200617T123000
DTEND;TZID=Europe/London:20200617T143000
DTSTAMP:20260421T125348
CREATED:20160115T121656Z
LAST-MODIFIED:20180925T151323Z
UID:6106-1592397000-1592404200@www.bramleywarmemorial.com
SUMMARY:Bramley Baptists War and Remembered Graves Clean Up
DESCRIPTION:Close up of the Grave Furniture designed\, produced and placed by Students at West Leeds Academy.
URL:https://www.bramleywarmemorial.com/event/bramley-baptists-war-and-remembered-graves-clean-up-2020-06-17/
LOCATION:Bramley Baptist Church Yard\, LS13 3RD
ORGANIZER;CN="John Barker":MAILTO:bramleywm@aol.com
END:VEVENT
BEGIN:VEVENT
DTSTART;TZID=Europe/London:20200607T123000
DTEND;TZID=Europe/London:20200607T150000
DTSTAMP:20260421T125348
CREATED:20180619T104008Z
LAST-MODIFIED:20180619T104008Z
UID:6142-1591533000-1591542000@www.bramleywarmemorial.com
SUMMARY:SSAFA Veterans and Families Sunday Lunch
DESCRIPTION:SSAFA Lunch Club
URL:https://www.bramleywarmemorial.com/event/ssafa-veterans-and-families-sunday-lunch-2020-06-07/
ATTACH;FMTTYPE=image/jpeg:https://www.bramleywarmemorial.com/wp-content/uploads/2018/06/SSAFA.jpg
END:VEVENT
BEGIN:VEVENT
DTSTART;TZID=Europe/London:20200603T123000
DTEND;TZID=Europe/London:20200603T143000
DTSTAMP:20260421T125348
CREATED:20160115T121656Z
LAST-MODIFIED:20180925T151323Z
UID:6105-1591187400-1591194600@www.bramleywarmemorial.com
SUMMARY:Bramley Baptists War and Remembered Graves Clean Up
DESCRIPTION:Close up of the Grave Furniture designed\, produced and placed by Students at West Leeds Academy.
URL:https://www.bramleywarmemorial.com/event/bramley-baptists-war-and-remembered-graves-clean-up-2020-06-03/
LOCATION:Bramley Baptist Church Yard\, LS13 3RD
ORGANIZER;CN="John Barker":MAILTO:bramleywm@aol.com
END:VEVENT
BEGIN:VEVENT
DTSTART;TZID=Europe/London:20200520T123000
DTEND;TZID=Europe/London:20200520T143000
DTSTAMP:20260421T125348
CREATED:20160115T121656Z
LAST-MODIFIED:20180925T151323Z
UID:6035-1589977800-1589985000@www.bramleywarmemorial.com
SUMMARY:Bramley Baptists War and Remembered Graves Clean Up
DESCRIPTION:Close up of the Grave Furniture designed\, produced and placed by Students at West Leeds Academy.
URL:https://www.bramleywarmemorial.com/event/bramley-baptists-war-and-remembered-graves-clean-up-2020-05-20/
LOCATION:Bramley Baptist Church Yard\, LS13 3RD
ORGANIZER;CN="John Barker":MAILTO:bramleywm@aol.com
END:VEVENT
BEGIN:VEVENT
DTSTART;VALUE=DATE:20200508
DTEND;VALUE=DATE:20200509
DTSTAMP:20260421T125348
CREATED:20190805T180334Z
LAST-MODIFIED:20200331T181220Z
UID:6348-1588896000-1588982399@www.bramleywarmemorial.com
SUMMARY:75th Anniversary of VE Day\, Friday May 8th 2020
DESCRIPTION:Message from Caroline Gruen\, Chair of the Friends of Bramley War Memorial \nThe Friends of Bramley War Memorial have reluctantly had to take the decision to cancel the planned event to honour the anniversary of VE Day on 8th May\, due to the risks of the current Coronavirus pandemic. We are very sorry that we cannot invite you  collectively to remember those who were fighting on the home front on the day itself\, but we are hoping to remember\, honour and thank them at an organised event to embrace both VE Day\, and VJ Day on 15th August. \nAs a mark of respect\, Norah Gibson\, a Friend of Bramley War Memorial and myself will (in a group of two only\, in line with Coronavirus advice) lay a single wreath at the memorial\, on behalf of the Bramley and Stanningley communities. We will do this at 3.00pm\, the exact time that Churchill delivered his speech. \nOur Union Flag will be flown and a lantern with lit  candle will be on display. \nIf you have any memories\, photos or memorabilia which has come in to the family through relatives we would be really pleased to see and share it for the purpose of making a book or something similar for access by our community. You can do this by contacting John Barker\, Secretary of The Friends of Bramley War Memorial at email bramleywm@aol.com or by direct message. \nWe will remember together\, but sadly physically apart on 8th May. \nCaroline
URL:https://www.bramleywarmemorial.com/event/75th-anniversary-of-ve-day-friday-may-8th-2020/
LOCATION:Bramley War Memorial\, LS13 3JZ
ATTACH;FMTTYPE=image/jpeg:https://www.bramleywarmemorial.com/wp-content/uploads/2020/03/VE-Image.jpg
END:VEVENT
BEGIN:VEVENT
DTSTART;TZID=Europe/London:20200506T123000
DTEND;TZID=Europe/London:20200506T143000
DTSTAMP:20260421T125348
CREATED:20160115T121656Z
LAST-MODIFIED:20180925T151323Z
UID:6034-1588768200-1588775400@www.bramleywarmemorial.com
SUMMARY:Bramley Baptists War and Remembered Graves Clean Up
DESCRIPTION:Close up of the Grave Furniture designed\, produced and placed by Students at West Leeds Academy.
URL:https://www.bramleywarmemorial.com/event/bramley-baptists-war-and-remembered-graves-clean-up-2020-05-06/
LOCATION:Bramley Baptist Church Yard\, LS13 3RD
ORGANIZER;CN="John Barker":MAILTO:bramleywm@aol.com
END:VEVENT
BEGIN:VEVENT
DTSTART;TZID=Europe/London:20200503T123000
DTEND;TZID=Europe/London:20200503T150000
DTSTAMP:20260421T125348
CREATED:20180619T104008Z
LAST-MODIFIED:20180619T104008Z
UID:6141-1588509000-1588518000@www.bramleywarmemorial.com
SUMMARY:SSAFA Veterans and Families Sunday Lunch
DESCRIPTION:SSAFA Lunch Club
URL:https://www.bramleywarmemorial.com/event/ssafa-veterans-and-families-sunday-lunch-2020-05-03/
ATTACH;FMTTYPE=image/jpeg:https://www.bramleywarmemorial.com/wp-content/uploads/2018/06/SSAFA.jpg
END:VEVENT
BEGIN:VEVENT
DTSTART;TZID=Europe/London:20200422T123000
DTEND;TZID=Europe/London:20200422T143000
DTSTAMP:20260421T125348
CREATED:20160115T121656Z
LAST-MODIFIED:20180925T151323Z
UID:6032-1587558600-1587565800@www.bramleywarmemorial.com
SUMMARY:Bramley Baptists War and Remembered Graves Clean Up
DESCRIPTION:Close up of the Grave Furniture designed\, produced and placed by Students at West Leeds Academy.
URL:https://www.bramleywarmemorial.com/event/bramley-baptists-war-and-remembered-graves-clean-up-2020-04-22/
LOCATION:Bramley Baptist Church Yard\, LS13 3RD
ORGANIZER;CN="John Barker":MAILTO:bramleywm@aol.com
END:VEVENT
BEGIN:VEVENT
DTSTART;TZID=Europe/London:20200408T123000
DTEND;TZID=Europe/London:20200408T143000
DTSTAMP:20260421T125348
CREATED:20160115T121656Z
LAST-MODIFIED:20180925T151323Z
UID:6031-1586349000-1586356200@www.bramleywarmemorial.com
SUMMARY:Bramley Baptists War and Remembered Graves Clean Up
DESCRIPTION:Close up of the Grave Furniture designed\, produced and placed by Students at West Leeds Academy.
URL:https://www.bramleywarmemorial.com/event/bramley-baptists-war-and-remembered-graves-clean-up-2020-04-08/
LOCATION:Bramley Baptist Church Yard\, LS13 3RD
ORGANIZER;CN="John Barker":MAILTO:bramleywm@aol.com
END:VEVENT
END:VCALENDAR